BEGIN:VCALENDAR
VERSION:2.0
PRODID:-//Grassi - ECPv6.15.17.1//NONSGML v1.0//EN
CALSCALE:GREGORIAN
METHOD:PUBLISH
X-WR-CALNAME:Grassi
X-ORIGINAL-URL:https://www.grassiadvisors.com
X-WR-CALDESC:Events for Grassi
REFRESH-INTERVAL;VALUE=DURATION:PT1H
X-Robots-Tag:noindex
X-PUBLISHED-TTL:PT1H
BEGIN:VTIMEZONE
TZID:America/New_York
BEGIN:DAYLIGHT
TZOFFSETFROM:-0500
TZOFFSETTO:-0400
TZNAME:EDT
DTSTART:20250309T070000
END:DAYLIGHT
BEGIN:STANDARD
TZOFFSETFROM:-0400
TZOFFSETTO:-0500
TZNAME:EST
DTSTART:20251102T060000
END:STANDARD
BEGIN:DAYLIGHT
TZOFFSETFROM:-0500
TZOFFSETTO:-0400
TZNAME:EDT
DTSTART:20260308T070000
END:DAYLIGHT
BEGIN:STANDARD
TZOFFSETFROM:-0400
TZOFFSETTO:-0500
TZNAME:EST
DTSTART:20261101T060000
END:STANDARD
BEGIN:DAYLIGHT
TZOFFSETFROM:-0500
TZOFFSETTO:-0400
TZNAME:EDT
DTSTART:20270314T070000
END:DAYLIGHT
BEGIN:STANDARD
TZOFFSETFROM:-0400
TZOFFSETTO:-0500
TZNAME:EST
DTSTART:20271107T060000
END:STANDARD
END:VTIMEZONE
BEGIN:VEVENT
DTSTART;TZID=America/New_York:20260428T120000
DTEND;TZID=America/New_York:20260428T130000
DTSTAMP:20260419T175116
CREATED:20260407T201231Z
LAST-MODIFIED:20260408T182326Z
UID:10000204-1777377600-1777381200@www.grassiadvisors.com
SUMMARY:AI in Finance: Practical Tools for Smarter Nonprofit Operations
DESCRIPTION:Technology plays an increasingly important role in how nonprofits operate and make decisions\, but effectiveness depends on how well systems\, data\, and processes work together. \nThis two-part webinar series focuses on practical\, advisory-driven strategies to strengthen operational efficiency and financial decision-making through thoughtful use of technology. Designed for nonprofit leaders and finance professionals\, the series explores real-world challenges and actionable approaches that support sustainable operations and improved workflows without unnecessary complexity. \nThis session\, AI in Finance: Practical Tools for Smarter Nonprofit Operations\, builds on that foundation by exploring real-world applications of AI to improve accuracy\, streamline workflows\, and accelerate reporting. \nThe first session\, Process Improvement Through Technology: Driving Operational Effectiveness\, focused on aligning technology\, processes\, and data to reduce inefficiencies and strengthen day-to-day operations.
URL:https://www.grassiadvisors.com/event/ai-in-finance-practical-tools-for-smarter-nonprofit-operations/
CATEGORIES:Nonprofit
ATTACH;FMTTYPE=image/jpeg:https://www.grassiadvisors.com/wp-content/uploads/2026/04/Grassi_Website_Image_NFP_Technology-for-Nonprofits-webinar-two_2026-04_v1_1200-x-400.jpg
LOCATION:https://www.grassiadvisors.com/event/ai-in-finance-practical-tools-for-smarter-nonprofit-operations/
END:VEVENT
BEGIN:VEVENT
DTSTART;TZID=America/New_York:20260429T113000
DTEND;TZID=America/New_York:20260429T120000
DTSTAMP:20260419T175116
CREATED:20260417T140528Z
LAST-MODIFIED:20260417T140528Z
UID:10000205-1777462200-1777464000@www.grassiadvisors.com
SUMMARY:IEEPA Tariff Refunds: What Phase 1 Means for Importers and How to Prepare Without Triggering Risk
DESCRIPTION:As U.S. Customs and Border Protection continues to roll out the IEEPA tariff refund process\, importers are facing critical questions around eligibility\, timing\, compliance\, and enforcement risk. With Phase 1 underway and heightened scrutiny from Customs\, understanding how to prepare and how to avoid missteps is essential. \nJoin Grassi’s Manufacturing & Distribution Practice Leader\, Robert Grote\, and Nunzio DeFilippis\, Co‑CEO of CargoTrans\, for a timely discussion on the practical realities of the IEEPA tariff refund landscape and what importers should be doing now.
URL:https://www.grassiadvisors.com/event/ieepa-tariff-refunds-phase-1-importers-prepare-without-triggering-risk/
CATEGORIES:Manufacturing & Distribution
ATTACH;FMTTYPE=image/jpeg:https://www.grassiadvisors.com/wp-content/uploads/2026/04/8afc84f7-f537-4d69-9848-baba1c62871f.jpg
LOCATION:https://www.grassiadvisors.com/event/ieepa-tariff-refunds-phase-1-importers-prepare-without-triggering-risk/
END:VEVENT
END:VCALENDAR